BEGIN:VCALENDAR
VERSION:2.0
PRODID:-//Ortsgemeinde Herborn//NONSGML kigkonsult.se iCalcreator 2.41.92//
CALSCALE:GREGORIAN
METHOD:PUBLISH
UID:65613439-3966-4765-b862-373766386263
X-WR-CALNAME:iCagenda
X-WR-CALDESC:Event Management Extension for Joomla!
X-WR-RELCALID:3E26604A-50F4-4449-8B3E-E4F4932D05B5
X-WR-TIMEZONE:Europe/Berlin
BEGIN:VTIMEZONE
TZID:Europe/Berlin
TZUNTIL:20280326T010000Z
BEGIN:STANDARD
TZNAME:CET
DTSTART:20251026T030000
TZOFFSETFROM:+0200
TZOFFSETTO:+0100
RDATE:20261025T030000
RDATE:20271031T030000
END:STANDARD
BEGIN:DAYLIGHT
TZNAME:CEST
DTSTART:20260329T020000
TZOFFSETFROM:+0100
TZOFFSETTO:+0200
RDATE:20270328T020000
END:DAYLIGHT
END:VTIMEZONE
BEGIN:VEVENT
UID:62646265-6161-4435-b133-663837333730
DTSTAMP:20260420T084113Z
CATEGORIES:Event
CLASS:PUBLIC
DESCRIPTION:
DTSTART:20260808T170000Z
DTEND:20260809T200000Z
GEO:+49.766838;+7.289279
LOCATION:Festplatz
ORGANIZER:
SEQUENCE:1
SUMMARY:Sommerfest der FFW am Festplatz
TRANSP:OPAQUE
URL:https://www.herborn-hunsrueck.de/index.php/aktuelles/31-sommerfest-der-
 ffw-am-festplatz-2
END:VEVENT
END:VCALENDAR
